Workbook

Sheet 25년 집행 총괄표(업추비)
B2: 2025년 8월 파주시청소년재단 업무추진비 사용내역
B3: ▪ 기관별 집행 내역
G4: 집행금액 합계 : | H4: =G15 -> 2075200
B5: (단위 : 원)
B6: 순번 | C6: 비목 | D6: 시설명 | E6: 집행횟수 | F6: 대상인원 | G6: 집행금액 | H6: 구성비율
B7: 1 | C7: 기관운영업무추진비 | D7: 파주시청소년재단 | E7: ='(기관운영) 8월 사무국'!N3 -> 5 | F7: ='(기관운영) 8월 사무국'!G15 -> 41 | G7: ='(기관운영) 8월 사무국'!H15 -> 482900 | H7: =G7/6000000*100 -> 8.0483333
B8: 2 | C8: 시책추진업무추진비 | D8: 사무국 | E8: ='(시책추진) 8월 사무국'!N3 -> 0 | F8: ='(시책추진) 8월 사무국'!G8 -> 0 | G8: ='(시책추진) 8월 사무국'!H8 -> 0 | H8: =G8/2400000*100 -> 0
B9: 3 | D9: 파주시청소년수련관 | E9: ='(시책추진) 8월 수련관'!N3 -> 3 | F9: ='(시책추진) 8월 수련관'!G12 -> 34 | G9: ='(시책추진) 8월 수련관'!H12 -> 354000 | H9: =G9/2400000*100 -> 14.75
B10: 4 | D10: 운정청소년센터 | E10: ='(시책추진) 8월 운정센터'!N3 -> 2 | F10: ='(시책추진) 8월 운정센터'!G11 -> 13 | G10: ='(시책추진) 8월 운정센터'!H11 -> 229700 | H10: =G10/2400000*100 -> 9.5708333
B11: 5 | D11: 청소년활동센터 | E11: ='(시책추진) 8월 활동센터'!N3 -> 4 | F11: ='(시책추진) 8월 활동센터'!G10 -> 50 | G11: ='(시책추진) 8월 활동센터'!H10 -> 357700 | H11: =G11/2400000*100 -> 14.904167
B12: 6 | D12: 교하청소년문화의집 | E12: ='(시책추진) 8월 교하'!N3 -> 4 | F12: ='(시책추진) 8월 교하'!G11 -> 12 | G12: ='(시책추진) 8월 교하'!H11 -> 218300 | H12: =G12/2400000*100 -> 9.0958333
B13: 7 | D13: 금촌청소년문화의집 | E13: ='(시책추진) 8월 금촌'!N3 -> 3 | F13: ='(시책추진) 8월 금촌'!G11 -> 15 | G13: ='(시책추진) 8월 금촌'!H11 -> 180400 | H13: =G13/2400000*100 -> 7.5166667
B14: 8 | D14: 파주시청소년상담센터 | E14: ='(시책추진) 8월 상담'!N3 -> 4 | F14: ='(시책추진) 8월 상담'!G15 -> 15 | G14: ='(시책추진) 8월 상담'!H15 -> 252200 | H14: =G14/2400000*100 -> 10.508333
B15: 합 계 | E15: =SUM(E7:E14) -> 25 | F15: =SUM(F7:F14) -> 180 | G15: =SUM(G7:G14) -> 2075200

Sheet (기관운영) 8월 사무국
B2: 2025년 8월 파주시청소년재단 기관운영업무추진비 사용내역
B3: [파주시청소년재단] | N3: =COUNTA(B5:B14) -> 5
B4: 번호 | C4: 사용자 | D4: 일시 | E4: 장소 | F4: 집행목적 | G4: 대상 (인원수) | H4: 금액 | I4: 결제방법 | J4: 비목
B5: 1 | C5: 원희복 대표 | D5: 2025-08-05 12:00~14:00 | E5: 투썸플레이스 운정역점 | F5: 인사관련 부서장 회의 | G5: 7 | H5: 38600 | I5: 체크카드 | J5: 기관운영업무추진비
B6: 2 | C6: 원희복 대표 | D6: 2025-08-14 12:00~13:00 | E6: 파주문산야 파스쿠찌 | F6: 고충처리 관련 관계자 업무협의 | G6: 4 | H6: 19300 | I6: 체크카드 | J6: 기관운영업무추진비
B7: 3 | C7: 원희복 대표 | D7: 2025-08-14 16:00~19:00 | E7: 요술나라 | F7: 일본군 위안부 피해자 기림의 날 행사 참석 및 행사직원 격려 | G7: 12 | H7: 200000 | I7: 체크카드 | J7: 기관운영업무추진비
B8: 4 | C8: 원희복 대표 | D8: 2025-08-22 12:00~13:00 | E8: 전주웰빙새알팥죽 | F8: 파주시청소년재단 자체감사 진행 업무격려 | G8: 10 | H8: 81500 | I8: 체크카드 | J8: 기관운영업무추진비
B9: 5 | C9: 원희복 대표 | D9: 2025-08-27 12:00~13:00 | E9: 개성손만두 | F9: 파주시청소년재단 노사협의회 정기 간담회 | G9: 8 | H9: 143500 | I9: 체크카드 | J9: 기관운영업무추진비
B15: 월 계 | G15: =SUM(G5:G14) -> 41 | H15: =SUM(H5:H14) -> 482900

Sheet (시책추진) 8월 사무국
B2: 2025년 8월 사무국 시책업무추진비 사용내역 총괄표
B3: [사무국] | N3: =COUNTA(B5:B7) -> 0
B4: 번호 | C4: 사용자 | D4: 일시 | E4: 장소 | F4: 집행목적 | G4: 대상 (인원수) | H4: 금액 | I4: 결제방법 | J4: 비목
F5: 해당내역없음
B8: 월 계 | G8: =SUM(G5:G7) -> 0 | H8: =SUM(H5:H7) -> 0

Sheet (시책추진) 8월 수련관
B2: 2025년 8월 파주시청소년수련관 시책추진업무추진비 사용내역
B3: [파주시청소년수련관] | N3: =COUNTA(B5:B11) -> 3
B4: 번호 | C4: 사용자 | D4: 일시 | E4: 장소 | F4: 집행목적 | G4: 대상 (인원수) | H4: 금액 | I4: 결제방법 | J4: 비목
B5: 1 | C5: 원희선 | D5: 45873.523 | E5: 밀밭식당 | F5: 우수 청소년운영위원회 선정 참가자 격려 간담회 | G5: 14 | H5: 249000 | I5: 체크카드 | J5: 시책추진업무추진비
B6: 2 | C6: 이은표 | D6: 45896.551 | E6: 카페데일리 | F6: 우수청소년운영위원회 시상식 참석 | G6: 10 | H6: 50000 | I6: 체크카드 | J6: 시책추진업무추진비
B7: 3 | C7: 박종훈 | D7: 45899.531 | E7: (재)서울YMCA고양국제청소년문화센터 | F7: 청소년운영위원회 교류활동 참가 격려 | G7: 10 | H7: 55000 | I7: 체크카드 | J7: 시책추진업무추진비
B12: 월 계 | G12: =SUM(G5:G11) -> 34 | H12: =SUM(H5:H11) -> 354000

Sheet (시책추진) 8월 운정센터
B2: 2025년 8월 운정청소년센터 시책추진업무추진비 사용내역
B3: [운정청소년센터] | N3: =COUNTA(B5:B10) -> 2
B4: 번호 | C4: 사용자 | D4: 일시 | E4: 장소 | F4: 집행목적 | G4: 대상 (인원수) | H4: 금액 | I4: 결제방법 | J4: 비목
B5: 1 | C5: 최유라 팀원 | D5: 2025-08-01 13:00~17:00 | E5: 명륜진사갈비(운정호수공원점) | F5: 공정무역 인증기관 및 공정당당 사업 관련 업무협의 | G5: 5 | H5: 99600 | I5: 체크카드 | J5: 시책추진업무추진비
B6: 2 | C6: 최유라 팀원 | D6: 2025-08-29 11:00~14:00 | E6: 밥꼬찜닭 | F6: 공정무역 인증기관 및 공정당당 사업 관련 업무협의 | G6: 8 | H6: 130100 | I6: 체크카드 | J6: 시책추진업무추진비
B11: 월 계 | G11: =SUM(G5:G10) -> 13 | H11: =SUM(H5:H10) -> 229700

Sheet (시책추진) 8월 활동센터
B2: 2025년 8월 청소년활동센터 시책추진업무추진비 사용내역
B3: [청소년활동센터] | N3: =COUNTA(B5:B9) -> 4
B4: 번호 | C4: 사용자 | D4: 일시 | E4: 장소 | F4: 집행목적 | G4: 대상 (인원수) | H4: 금액 | I4: 결제방법 | J4: 비목
B5: 1 | C5: 김형수 과장 | D5: 2025. 8. 4.(월) 12:00~13:00 | E5: 봉구스밥버거(송파점) | F5: 취미계발 프로그램 참여 쉼표 청소년과의 식사 진행 | G5: 36 | H5: 150000 | I5: 체크카드 | J5: 시책추진업무추진비
B6: 2 | C6: 김형수 과장 | D6: 2025. 8. 8.(금) 12:00~13:00 | E6: 메가커피 파주적성점 | F6: 파주시 청소년 정책참여 캠프 참여 청소년 격려 | G6: 6 | H6: 26000 | I6: 체크카드 | J6: 시책추진업무추진비
B7: 3 | C7: 김형수 과장 | D7: 2025. 8. 22.(금) 12:00~13:00 | E7: 구루메회전초밥 외1 | F7: 공공근로, 장학근로생 및 담당자와의 식사 | G7: 4 | H7: 62700 | I7: 체크카드 | J7: 시책추진업무추진비
B8: 4 | C8: 김형수 과장 | D8: 2025. 8. 29.(금) 12:00~13:00 | E8: 칠공닭갈비 | F8: 허그인 관계자와의 MOU 관련 식사 | G8: 4 | H8: 119000 | I8: 체크카드 | J8: 시책추진업무추진비
B10: 월 계 | G10: =SUM(G5:G9) -> 50 | H10: =SUM(H5:H9) -> 357700
E45: 104300

Sheet (시책추진) 8월 교하
B2: 2025년 8월 교하청소년문화의집 시책추진업무추진비 사용내역
B3: [교하청소년문화의집] | N3: =COUNTA(B5:B10) -> 4
B4: 번호 | C4: 사용자 | D4: 일시 | E4: 장소 | F4: 집행목적 | G4: 대상 (인원수) | H4: 금액 | I4: 결제방법 | J4: 비목
B5: 1 | C5: 김형수 과장 | D5: 2025. 8. 9.(토) 12:00~13:00 | E5: 골목식당 외 1곳 | F5: e스포츠대회 관계자와의 간담회 | G5: 3 | H5: 34000 | I5: 체크카드 | J5: 시책추진업무추진비
B6: 2 | C6: 김형수 과장 | D6: 2025. 8. 16.(토) 12:00~13:00 | E6: 오실장강남면옥 운정점 외 1곳 | F6: 어울림마당 2차 관계자와의 식사 | G6: 3 | H6: 82800 | I6: 체크카드 | J6: 시책추진업무추진비
B7: 3 | C7: 김형수 과장 | D7: 2025. 8. 19.(화) 12:00~13:00 | E7: 옹다래감자탕뼈짐&찜닭 | F7: 실습생과 식사 | G7: 2 | H7: 50000 | I7: 체크카드 | J7: 시책추진업무추진비
B8: 4 | C8: 김형수 과장 | D8: 2025. 8. 20.(수) 12:00~13:00 | E8: 파주교하점 메가커피 | F8: 청소년문해교육 강사와의 간담회 | G8: 4 | H8: 51500 | I8: 체크카드 | J8: 시책추진업무추진비
B11: 월 계 | G11: =SUM(G5:G10) -> 12 | H11: =SUM(H5:H10) -> 218300

Sheet (시책추진) 8월 금촌
B2: 2025년 8월 금촌청소년문화의집 시책추진업무추진비 사용내역
B3: [금촌청소년문화의집] | N3: =COUNTA(B5:B10) -> 3
B4: 번호 | C4: 사용자 | D4: 일시 | E4: 장소 | F4: 집행목적 | G4: 대상 (인원수) | H4: 금액 | I4: 결제방법 | J4: 비목
B5: 1 | C5: 서연수 팀원 | D5: 2025. 8. 9.(토) 11:30~15:00 | E5: 메가커피 운정해솔마을점 | F5: 기타동아리 랑랑 딱지치기 프로젝트 행사 재능기부공연 참여 식비 지출 | G5: 6 | H5: 20500 | I5: 체크카드 | J5: 시책추진업무추진비
B6: 2 | C6: 나기숙 관장 | D6: 2025. 8. 22.(금) 11:30~15:00 | E6: 감동까스 파주금촌점 | F6: 하계방학 근로장학생 및 2단계 공공근로자 근무 종료에 따른 격려 식비 지출 | G6: 7 | H6: 132900 | I6: 체크카드 | J6: 시책추진업무추진비
B7: 3 | C7: 나기숙 관장 | D7: 2025. 8. 27.(수) 11:00~14:00 | E7: 현대식당, 안단테153 | F7: 26년 신규사업 디지털윤리교육 협의 및 HP포션 역량강화교육 평가회의를 위한 식비 지출 | G7: 2 | H7: 27000 | I7: 체크카드 | J7: 시책추진업무추진비
B11: 월 계 | G11: =SUM(G5:G10) -> 15 | H11: =SUM(H5:H10) -> 180400
E46: 104300

Sheet (시책추진) 8월 상담
B2: 2025년 8월 파주시청소년상담복지센터 시책추진업무추진비 사용내역
B3: [파주시청소년상담복지센터] | N3: =COUNTA(B5:B14) -> 4
B4: 번호 | C4: 사용자 | D4: 일시 | E4: 장소 | F4: 집행목적 | G4: 대상 (인원수) | H4: 금액 | I4: 결제방법 | J4: 비목
B5: 1 | C5: 장문희 센터장 | D5: 2025-08-06 10:00~13:00 | E5: 행복한 한끼 | F5: 교육특구사업회의 진행비(식사비) | G5: 4 | H5: 40000 | I5: 체크카드 | J5: 시책추진업무추진비
B6: 2 | C6: 김영수 팀장 | D6: 2025-08-25 12:00~14:00 | E6: 달빛에구운고등어 | F6: 위기상담사 사업회의 진행비(식사비) | G6: 5 | H6: 85000 | I6: 체크카드 | J6: 시책추진업무추진비
B7: 3 | C7: 김은덕 팀원 | D7: 2025-08-25 15:00~17:00 | E7: 컴포즈 커피 | F7: 보다듬 사업회의 진행비(다과) | G7: 2 | H7: 7600 | I7: 체크카드 | J7: 시책추진업무추진비
B8: 4 | C8: 김영수 팀장 | D8: 2025-08-28 16:00~20:00 | E8: 샤브올데이 | F8: 보다듬학교 연구용역 관련 사업회의 진행비(식사 및 다과) | G8: 4 | H8: 119600 | I8: 체크카드 | J8: 시책추진업무추진비
B15: 월 계 | G15: =SUM(G5:G14) -> 15 | H15: =SUM(H5:H14) -> 252200

Sheet 계산
A1: 예산
A2: 계 | B2: 기관운영 | C2: 시책추진
B3: 정책기획과 | C3: 정책기획과 | D3: 활동과 | E3: 교하 | F3: 금촌 | G3: 운정 | H3: 상담 | I3: 수련관
A4: =SUM(B4:I4) -> 2075200 | B4: ='(기관운영) 8월 사무국'!H15 -> 482900 | C4: ='(시책추진) 8월 사무국'!H8 -> 0 | D4: ='(시책추진) 8월 활동센터'!H10 -> 357700 | E4: ='(시책추진) 8월 교하'!H11 -> 218300 | F4: ='(시책추진) 8월 금촌'!H11 -> 180400 | G4: ='(시책추진) 8월 운정센터'!H11 -> 229700 | H4: ='(시책추진) 8월 상담'!H15 -> 252200 | I4: ='(시책추진) 8월 수련관'!H12 -> 354000
A5: 사용인원
A6: 계 | B6: 기관운영 | C6: 시책추진
B7: 정책기획과 | C7: 정책기획과 | D7: 활동과 | E7: 교하 | F7: 금촌 | G7: 운정 | H7: 상담 | I7: 수련관
A8: =SUM(B8:I8) -> 180 | B8: ='(기관운영) 8월 사무국'!G15 -> 41 | C8: ='(시책추진) 8월 사무국'!G8 -> 0 | D8: ='(시책추진) 8월 활동센터'!G10 -> 50 | E8: ='(시책추진) 8월 교하'!G11 -> 12 | F8: ='(시책추진) 8월 금촌'!G11 -> 15 | G8: ='(시책추진) 8월 운정센터'!G11 -> 13 | H8: ='(시책추진) 8월 상담'!G15 -> 15 | I8: ='(시책추진) 8월 수련관'!G12 -> 34
